BEGIN:VCALENDAR
VERSION:2.0
PRODID:-//The Children&#039;s Garden Preschool - ECPv6.15.20//NONSGML v1.0//EN
CALSCALE:GREGORIAN
METHOD:PUBLISH
X-ORIGINAL-URL:https://thechildrensgardenpreschool.org
X-WR-CALDESC:Events for The Children&#039;s Garden Preschool
REFRESH-INTERVAL;VALUE=DURATION:PT1H
X-Robots-Tag:noindex
X-PUBLISHED-TTL:PT1H
BEGIN:VTIMEZONE
TZID:America/New_York
BEGIN:DAYLIGHT
TZOFFSETFROM:-0500
TZOFFSETTO:-0400
TZNAME:EDT
DTSTART:20240310T070000
END:DAYLIGHT
BEGIN:STANDARD
TZOFFSETFROM:-0400
TZOFFSETTO:-0500
TZNAME:EST
DTSTART:20241103T060000
END:STANDARD
BEGIN:DAYLIGHT
TZOFFSETFROM:-0500
TZOFFSETTO:-0400
TZNAME:EDT
DTSTART:20250309T070000
END:DAYLIGHT
BEGIN:STANDARD
TZOFFSETFROM:-0400
TZOFFSETTO:-0500
TZNAME:EST
DTSTART:20251102T060000
END:STANDARD
BEGIN:DAYLIGHT
TZOFFSETFROM:-0500
TZOFFSETTO:-0400
TZNAME:EDT
DTSTART:20260308T070000
END:DAYLIGHT
BEGIN:STANDARD
TZOFFSETFROM:-0400
TZOFFSETTO:-0500
TZNAME:EST
DTSTART:20261101T060000
END:STANDARD
END:VTIMEZONE
BEGIN:VEVENT
DTSTART;TZID=America/New_York:20250802T083000
DTEND;TZID=America/New_York:20250802T123000
DTSTAMP:20260421T143412
CREATED:20250205T155907Z
LAST-MODIFIED:20250205T155907Z
UID:8733-1754123400-1754137800@thechildrensgardenpreschool.org
SUMMARY:Community Work Day & Picnic
DESCRIPTION:Community Work Day 8:30-12:30 \nPicnic follows until 1:30
URL:https://thechildrensgardenpreschool.org/event/community-work-day-picnic/
END:VEVENT
BEGIN:VEVENT
DTSTART;TZID=America/New_York:20250802T123000
DTEND;TZID=America/New_York:20250802T133000
DTSTAMP:20260421T143412
CREATED:20250320T154512Z
LAST-MODIFIED:20250320T154512Z
UID:8785-1754137800-1754141400@thechildrensgardenpreschool.org
SUMMARY:Picnic - Following Community Workday
DESCRIPTION:Picnic following Community Workday \n12:30-1:30pm
URL:https://thechildrensgardenpreschool.org/event/picnic-following-community-workday/
END:VEVENT
END:VCALENDAR