BEGIN:VCALENDAR
VERSION:2.0
PRODID:-//The Children&#039;s Garden Preschool - ECPv6.15.20//NONSGML v1.0//EN
CALSCALE:GREGORIAN
METHOD:PUBLISH
X-WR-CALNAME:The Children&#039;s Garden Preschool
X-ORIGINAL-URL:https://thechildrensgardenpreschool.org
X-WR-CALDESC:Events for The Children&#039;s Garden Preschool
REFRESH-INTERVAL;VALUE=DURATION:PT1H
X-Robots-Tag:noindex
X-PUBLISHED-TTL:PT1H
BEGIN:VTIMEZONE
TZID:America/New_York
BEGIN:DAYLIGHT
TZOFFSETFROM:-0500
TZOFFSETTO:-0400
TZNAME:EDT
DTSTART:20220313T070000
END:DAYLIGHT
BEGIN:STANDARD
TZOFFSETFROM:-0400
TZOFFSETTO:-0500
TZNAME:EST
DTSTART:20221106T060000
END:STANDARD
BEGIN:DAYLIGHT
TZOFFSETFROM:-0500
TZOFFSETTO:-0400
TZNAME:EDT
DTSTART:20230312T070000
END:DAYLIGHT
BEGIN:STANDARD
TZOFFSETFROM:-0400
TZOFFSETTO:-0500
TZNAME:EST
DTSTART:20231105T060000
END:STANDARD
BEGIN:DAYLIGHT
TZOFFSETFROM:-0500
TZOFFSETTO:-0400
TZNAME:EDT
DTSTART:20240310T070000
END:DAYLIGHT
BEGIN:STANDARD
TZOFFSETFROM:-0400
TZOFFSETTO:-0500
TZNAME:EST
DTSTART:20241103T060000
END:STANDARD
END:VTIMEZONE
BEGIN:VEVENT
DTSTART;VALUE=DATE:20230309
DTEND;VALUE=DATE:20230310
DTSTAMP:20260419T192505
CREATED:20230307T002243Z
LAST-MODIFIED:20230307T002243Z
UID:8358-1678320000-1678406399@thechildrensgardenpreschool.org
SUMMARY:2023 Summer Camp Registration begins
DESCRIPTION:Summer registration begins Thursday\, March 9th\, for our currently enrolled families (children attending now who are at least 3 years old as of this summer and/or recent graduates from TCG\, who are up to 7 years old of age). We start accepting summer registrations on Thursday morning at the parent coffee (but not before – please see below about how to register).\n\n\nTO REGISTER: Turn in your child’s completed 3-page registration form via email OR – at drop-off or pick-up – between March 9th and March 24th.  You will receive a Quickbooks invoice the same day\, with registration fee due within one day (24 hours).  Once we have BOTH your camp registration forms and the registration fee\, your child’s registration will be complete.  If we don’t receive registration fees within one day\, your child will not be registered for camp.\n\n\n\nWHO CAN ATTEND: We are only able to accept currently enrolled and alumni children\, as space is limited.  We anticipate another full roster this summer – so please understand that you will need to register quickly to reserve your spot/s.  Registration is strictly happening on a first come\, first serve basis.  Please see packet details about a young three year old being ready to join in summer camp with us.\n\n\nSummer camp operates for two months\, for 3 to 7 year olds\, in one mixed-age class.  This year\, Ms. Sally and our newly hired assistant teacher\, Ms Emma (whom you will all meet in mid-March)\, are the teaching team and admin staff for the summer program.  They will be assisted by summer camp interns and other TCG staff\, as needed. Same as recent years\, there are just two camp sessions – June and July.  Children registered may come for a minimum of a one month session or both months (no partial or split sessions). TCG graduates/older siblings are welcome up to age 7.
URL:https://thechildrensgardenpreschool.org/event/2023-summer-camp-registration-begins-2/
LOCATION:The Children’s Garden Preschool\, 486 Park Ave SE\, Atlanta\, GA\, 30312\, United States
ORGANIZER;CN="Sally Hansen":MAILTO:office@thechildrensgardenpreschool.org
END:VEVENT
BEGIN:VEVENT
DTSTART;TZID=America/New_York:20230304T050000
DTEND;TZID=America/New_York:20230304T073000
DTSTAMP:20260419T192505
CREATED:20230202T204250Z
LAST-MODIFIED:20230202T204639Z
UID:8334-1677906000-1677915000@thechildrensgardenpreschool.org
SUMMARY:The Children's Garden's Open House Day!
DESCRIPTION:Join us at The Children’s Garden’s Open House Day! Experience the joy\, love and magic in our special school. Meet and engage with our teachers and staff\, witness a little “demo” of a weekly activity in the classes\, and hear about the meaningful\, rhythmic days and weeks the children in our school experience! There will be time spent in our beautiful classrooms\, and outdoors\, on the play yard and outdoor classroom area. \nIf you are interested in attending\, we kindly request you make a reservation by emailing us at office@thechildrensgardenpreschool.org\nSpace is limited. \nFeel free to contact us with questions if you need more information! We look forward to seeing you and having the opportunity to meet you and your child\, while sharing what we have to offer.
URL:https://thechildrensgardenpreschool.org/event/the-childrens-gardens-open-house-day/
LOCATION:The Children’s Garden Preschool\, 486 Park Ave SE\, Atlanta\, GA\, 30312\, United States
END:VEVENT
END:VCALENDAR